BEGIN:VCALENDAR
VERSION:2.0
PRODID:-//Akademie verlorener K&uuml;nste - ECPv5.14.1//NONSGML v1.0//EN
CALSCALE:GREGORIAN
METHOD:PUBLISH
X-WR-CALNAME:Akademie verlorener K&uuml;nste
X-ORIGINAL-URL:https://akademie-verlorener-kuenste.com
X-WR-CALDESC:Veranstaltungen für Akademie verlorener K&uuml;nste
REFRESH-INTERVAL;VALUE=DURATION:PT1H
X-Robots-Tag:noindex
X-PUBLISHED-TTL:PT1H
BEGIN:VTIMEZONE
TZID:UTC
BEGIN:STANDARD
TZOFFSETFROM:+0000
TZOFFSETTO:+0000
TZNAME:UTC
DTSTART:20220101T000000
END:STANDARD
END:VTIMEZONE
BEGIN:VEVENT
DTSTART;TZID=UTC:20220702T130000
DTEND;TZID=UTC:20220702T160000
DTSTAMP:20260423T220238
CREATED:20220413T160911Z
LAST-MODIFIED:20220425T063249Z
UID:334-1656766800-1656777600@akademie-verlorener-kuenste.com
SUMMARY:Schnupperseminar | Fechten mit dem Langschwert
DESCRIPTION:Schnupperseminar im Fechten mit dem Langschwert. \nPreis: 60€ pro Person; Dauer: 3-3\,5 Stunden \nIm Schnupperseminar zeige ich dir die Grundlagen des Fechtens mit dem Langschwert. \nVoraussetzungen:\nGute Laune\, Sportkleidung\, genug zu trinken. \nSchwerter werden gestellt. \nZur Anmeldung schreib mir eine Nachricht über das Kontaktformular. \nDas Seminar findet in Hildesheim\, Barienrode auf dem Gelände der 1000-Jahrfeier statt.\nBeginn ist um 13:00Uhr. Der Eintritt zum Markt muss zusätzlich entrichtet werden. \nDie Teilnehmeranzahl ist auf 6 beschränkt.
URL:https://akademie-verlorener-kuenste.com/event/schnupperseminar-fechten-mit-dem-langschwert-2/
END:VEVENT
END:VCALENDAR